BEGIN:VCALENDAR
VERSION:2.0
PRODID:spatie/icalendar-generator
DESCRIPTION:Events from Orange Audubon Society
X-WR-CALDESC:Events from Orange Audubon Society
REFRESH-INTERVAL;VALUE=DURATION:PT1440M
X-PUBLISHED-TTL:PT1440M
BEGIN:VTIMEZONE
TZID:America/New_York
BEGIN:DAYLIGHT
DTSTART:20250309T020000Z
TZOFFSETFROM:-0500
TZOFFSETTO:-0400
END:DAYLIGHT
BEGIN:STANDARD
DTSTART:20251102T020000Z
TZOFFSETFROM:-0400
TZOFFSETTO:-0500
END:STANDARD
BEGIN:DAYLIGHT
DTSTART:20260308T020000Z
TZOFFSETFROM:-0500
TZOFFSETTO:-0400
END:DAYLIGHT
END:VTIMEZONE
BEGIN:VTIMEZONE
TZID:UTC
BEGIN:STANDARD
DTSTART:20250725T125419Z
TZOFFSETFROM:+0000
TZOFFSETTO:+0000
END:STANDARD
END:VTIMEZONE
BEGIN:VEVENT
UID:337-261
DTSTAMP:20260421T125419Z
SUMMARY:OAS Monthly Program -  Bats\, Myth and Reality by Shari Blisset-Cla
 rk
LOCATION:Leu Gardens 1920 North Forest Avenue  Orlando FL
ORGANIZER;CN=Susan Thome-Barrett:MAILTO:2904susan@gmail.com
DTSTART;TZID=America/New_York:20251016T190000
DTEND;TZID=America/New_York:20251016T200000
X-ALT-DESC;FMTTYPE=TEXT/HTML:<p>Join us LIVE at the Camilla Room as Shari B
 lisset-Clark discusses our other favorite flying friends\, bats! The progr
 am will follow a short update at our monthly membership meeting.</p>\n
CATEGORIES:General
URL;VALUE=URI:https://orangeaudubonfl.org/mc-events/oas-monthly-program-bat
 s-myth-and-reality-by-shari-blisset-clark/
METHOD:PUBLISH
END:VEVENT
END:VCALENDAR