BEGIN:VCALENDAR
VERSION:2.0
PRODID:spatie/icalendar-generator
DESCRIPTION:Events from Orange Audubon Society
X-WR-CALDESC:Events from Orange Audubon Society
REFRESH-INTERVAL;VALUE=DURATION:PT1440M
X-PUBLISHED-TTL:PT1440M
BEGIN:VTIMEZONE
TZID:America/New_York
BEGIN:STANDARD
DTSTART:20231105T020000Z
TZOFFSETFROM:-0400
TZOFFSETTO:-0500
END:STANDARD
BEGIN:DAYLIGHT
DTSTART:20240310T020000Z
TZOFFSETFROM:-0500
TZOFFSETTO:-0400
END:DAYLIGHT
END:VTIMEZONE
BEGIN:VTIMEZONE
TZID:UTC
BEGIN:STANDARD
DTSTART:20250726T092742Z
TZOFFSETFROM:+0000
TZOFFSETTO:+0000
END:STANDARD
END:VTIMEZONE
BEGIN:VEVENT
UID:57-46
DTSTAMP:20260422T092742Z
SUMMARY:Mead Botanical Gardens Spring Bird Walks\, Winter Park
LOCATION:Mead Botanical Gardens 1300 S. Denning Drive  Winter Park FL 32789
ORGANIZER;CN=Susan Thome-Barrett:MAILTO:2904susan@gmail.com
DTSTART;TZID=America/New_York:20240406T080000
DTEND;TZID=America/New_York:20240406T113000
X-ALT-DESC;FMTTYPE=TEXT/HTML:<p>Join our FREE Spring Bird walks in Mead Bot
 anical Gardens while we search for both migrant visitors and resident bird
 s. Wood Ducks\, Barred Owls\, Pileated Woodpeckers and others are joined i
 n the Spring by passing warblers such as American Redstarts\, Black and Wh
 ite Warblers\, Black-throated Blue Warblers and others. This park has host
 ed Indigo Bunting\, Painted Bunting\, Hooded Warblers\, and Yellow-throate
 d Warblers.  We never know what we will see but if we don't look we won't 
 find out!  Join us!  FREE but limited to 15 registrants.  To register call
  (941) 704-1189.</p>\n
CATEGORIES:General
URL;VALUE=URI:https://orangeaudubonfl.org/mc-events/mead-botanical-gardens-
 spring-bird-walks-winter-park/
METHOD:PUBLISH
END:VEVENT
END:VCALENDAR