BEGIN:VCALENDAR
VERSION:2.0
PRODID:spatie/icalendar-generator
DESCRIPTION:Events from Orange Audubon Society
X-WR-CALDESC:Events from Orange Audubon Society
REFRESH-INTERVAL;VALUE=DURATION:PT1440M
X-PUBLISHED-TTL:PT1440M
BEGIN:VTIMEZONE
TZID:America/New_York
BEGIN:STANDARD
DTSTART:20241103T020000Z
TZOFFSETFROM:-0400
TZOFFSETTO:-0500
END:STANDARD
BEGIN:DAYLIGHT
DTSTART:20250309T020000Z
TZOFFSETFROM:-0500
TZOFFSETTO:-0400
END:DAYLIGHT
BEGIN:STANDARD
DTSTART:20251102T020000Z
TZOFFSETFROM:-0400
TZOFFSETTO:-0500
END:STANDARD
END:VTIMEZONE
BEGIN:VTIMEZONE
TZID:UTC
BEGIN:STANDARD
DTSTART:20250727T092651Z
TZOFFSETFROM:+0000
TZOFFSETTO:+0000
END:STANDARD
END:VTIMEZONE
BEGIN:VEVENT
UID:308-237
DTSTAMP:20260423T092651Z
SUMMARY:BIRD SURVEY - Oakland Nature Preserve
LOCATION:Oakland Nature Preserve 747 Machete Trail  Oakland FL 34760
ORGANIZER;CN=Susan Thome-Barrett:MAILTO:2904susan@gmail.com
DTSTART;TZID=America/New_York:20250608T071500
DTEND;TZID=America/New_York:20250608T081500
X-ALT-DESC;FMTTYPE=TEXT/HTML:<p>Quarterly Bird survey at Oakland Nature Pre
 serve will begin at 7:15 am.  Contact Kathy Rigling at riglingkathy@gmail.
 com</p>\n
CATEGORIES:General
URL;VALUE=URI:https://orangeaudubonfl.org/mc-events/bird-survey-oakland-nat
 ure-preserve-9/
METHOD:PUBLISH
END:VEVENT
END:VCALENDAR