BEGIN:VCALENDAR
VERSION:2.0
PRODID:spatie/icalendar-generator
DESCRIPTION:Events from Orange Audubon Society
X-WR-CALDESC:Events from Orange Audubon Society
REFRESH-INTERVAL;VALUE=DURATION:PT1440M
X-PUBLISHED-TTL:PT1440M
BEGIN:VTIMEZONE
TZID:America/New_York
BEGIN:STANDARD
DTSTART:20241103T020000Z
TZOFFSETFROM:-0400
TZOFFSETTO:-0500
END:STANDARD
BEGIN:DAYLIGHT
DTSTART:20250309T020000Z
TZOFFSETFROM:-0500
TZOFFSETTO:-0400
END:DAYLIGHT
END:VTIMEZONE
BEGIN:VTIMEZONE
TZID:UTC
BEGIN:STANDARD
DTSTART:20250725T091952Z
TZOFFSETFROM:+0000
TZOFFSETTO:+0000
END:STANDARD
END:VTIMEZONE
BEGIN:VEVENT
UID:241-187
DTSTAMP:20260421T091952Z
SUMMARY:Monthly Field Trip to Pear Park Conservation Area\, Leesburg
LOCATION:P.E.A.R. Park Wildlife Conservation Area\, Leesburg 4800 Universit
 y Ave  Leesburg FL 34748
ORGANIZER;CN=Susan Thome-Barrett:MAILTO:2904susan@gmail.com
DTSTART;TZID=America/New_York:20250118T073000
DTEND;TZID=America/New_York:20250118T110000
X-ALT-DESC;FMTTYPE=TEXT/HTML:<p>Enjoy the native plants\, butterflies\, and
  of course\, birds\, at Pear Park Wildlife Conservation Area in Leesburg. 
  Our FREE monthly field trip will take us through restored habitats of upl
 ands areas and walk along a riverbank with large oaks.  Expect uneven surf
 aces and roots.  Residents include Eastern Bluebirds and American Kestrels
 . We might spot Red-tailed Hawks and other raptors overhead.  Sparrows lik
 e the grassy areas.  Field trip is FREE and limited to 15. Additional deta
 ils upon registration.  Guest Leader: Maxfield Weakly Register via web. Qu
 estions contact Kathy at riglingkathy@gmail.com.</p>\n
CATEGORIES:General
URL;VALUE=URI:https://orangeaudubonfl.org/mc-events/monthly-field-trip-to-p
 ear-park-conservation-area-leesburg-2/
METHOD:PUBLISH
END:VEVENT
END:VCALENDAR